BEGIN:VCALENDAR
VERSION:2.0
PRODID:-//hacksw/handcal//NONSGML v1.0//EN
BEGIN:VEVENT
SUMMARY:Rando journee avec pique-nique
UID:f0e6f3ad-dedc-4fd3-9427-ec8dd4225b01
DTSTART:20260609T064500Z
DTEND:20260609T150000Z
LOCATION:Localisation   
CATEGORIES:Sportif
STATUS:
URL;VALUE=URI:https://gym-rando.sportsregions.fr/evenements/2026/06/09/rando-journee-avec-pique-nique-2433797
END:VEVENT
END:VCALENDAR
